BEGIN:VCALENDAR
VERSION:2.0
PRODID:-//ExpressionEngine Easy iCalendar plugin//NONSGML v2.0.0//EN
X-WR-TIMEZONE:America/Chicago
X-WR-CALNAME:Upcoming Auctions
BEGIN:VEVENT
UID:99799
DTSTAMP:20230602T080000
DTSTART:20230602T080000
DTEND:20230605T170000
SUMMARY:Estate of Carroll Kahlstorf
LOCATION:11824 283rd Ave\, Zimmerman \, MN 55398\, US
DESCRIPTION:10% Buyers Premium sales tax on vehichles and trailers only.
   2006 Dodge 2500 w/cummins 98\,xxx miles 2014 Toyota Tacoma
  w/ 110\,xxx miles 1998 Smoker Craft 162 Pro Mag w/60hp Mercu
 ry  John Deere 425 w/ cab\, blower and 60" deck Chevrolet bo
 om truck Large assortment of tools\, shop supplies\, firearms 
 and more!
URL:https://www.hillerauction.com/auctions/detail/bw99799
SEQUENCE:1
END:VEVENT
END:VCALENDAR