BEGIN:VCALENDAR
VERSION:2.0
PRODID:-//ExpressionEngine Easy iCalendar plugin//NONSGML v2.0.0//EN
X-WR-TIMEZONE:America/Chicago
X-WR-CALNAME:Upcoming Auctions
BEGIN:VEVENT
UID:94668
DTSTAMP:20230309T130000
DTSTART:20230309T130000
DTEND:20230309T140000
SUMMARY:St Paul Impound Lot
LOCATION:830 Barge Channel Rd\, St Paul \, MN 55107\, US
DESCRIPTION:St Paul Police Impound Main Lot 830 Barge Chanel Rd\, St Paul
 \, MN 55107 Live Bidding Only w/ proper ID and $5 entry fee A
  list of cars has not been provided yet. 
URL:https://www.hillerauction.com/auctions/detail/bw94668
SEQUENCE:1
END:VEVENT
END:VCALENDAR