BEGIN:VCALENDAR
VERSION:2.0
PRODID:-//ExpressionEngine Easy iCalendar plugin//NONSGML v2.0.0//EN
X-WR-TIMEZONE:America/Chicago
X-WR-CALNAME:Upcoming Auctions
BEGIN:VEVENT
UID:94665
DTSTAMP:20230128T103000
DTSTART:20230128T103000
DTEND:20230128T140000
SUMMARY:St Paul Impound Lot
LOCATION:1129 Cathlin St\, St Paul \, MN 55107\, US
DESCRIPTION:St Paul Police Snow Emergency Auction 250+ cars 1129 Cathlin
  St\, St Paul\, MN 55107 Vewing starts at 8:30 am bidding sta
 rts at 10:30 Live Bidding Only W/ proper ID and $5 entry fee
  A list of cars has not been provided yet. 
URL:https://www.hillerauction.com/auctions/detail/bw94665
SEQUENCE:1
END:VEVENT
END:VCALENDAR