BEGIN:VCALENDAR
VERSION:2.0
PRODID:-//ExpressionEngine Easy iCalendar plugin//NONSGML v2.0.0//EN
X-WR-TIMEZONE:America/Chicago
X-WR-CALNAME:Upcoming Auctions
BEGIN:VEVENT
UID:93888
DTSTAMP:20230120T080000
DTSTART:20230120T080000
DTEND:20230123T180000
SUMMARY:January Consignments Ring 1
LOCATION:10785 261st AVE NW\, Zimmerman \, MN 55398\, US
DESCRIPTION:January Consignments DUE TO SCHEDULING ISSUES WITH THE CITY 
 OF ST PAUL SNOW EMERGENCY THE SALE HAS BEEN MOVED BACK ONE W
 EEK  10% Buyers Premium and Minnesota sales tax applies.  
 Attention Dealers you will need to bring a new copy of deale
 r’s license and ST-3 form starting the January 1st.  FFL 
 dealers you will need to supply new copy of FFL license. Che
 ck in Dates will be Monday January 2nd to Thursday January 5
 th from 9am to 5pm\, Monday January 9th to Thursday Januar
 y 13th 9am to 5pm. Monday January 16th and Tuesday January 1
 7th 9-5 We will be accepting Firearms\, Ammunition\, Powerspor
 ts\, Vehicles\, Trailers\, Equipment and attachments.  No Smal
 l items.
URL:https://www.hillerauction.com/auctions/detail/bw93888
SEQUENCE:1
END:VEVENT
END:VCALENDAR