BEGIN:VCALENDAR
VERSION:2.0
PRODID:-//ExpressionEngine Easy iCalendar plugin//NONSGML v2.0.0//EN
X-WR-TIMEZONE:America/Chicago
X-WR-CALNAME:Upcoming Auctions
BEGIN:VEVENT
UID:92438
DTSTAMP:20221205T080000
DTSTART:20221205T080000
DTEND:20221209T180000
SUMMARY:North Saint Paul Real Estate
LOCATION:{location}
DESCRIPTION:Terms:This property is being sold with reserve. The seller r
 eserves the right to reject the high bid. All information is
  deemed reliable\; however\, it is the buyers’ responsibilit
 y to verify all information. Eligible Bidders: Anyone 18 ye
 ars of age (sane and sober) or older may bid on this propert
 y with the sole intent of purchasing. Down Payment: $1\,000 
 down payment due at signing with the balance due at closing.
  Auction Ending Time: The scheduled ending time is 6pm CDT.
  However\, it will extend if there is bidding in the final mi
 nutes and extend as many times as necessary until there is n
 o bidding for 3 minutes. Home Inspection/Disclosures: Sell
 ers have waived their right to provide writen disclosures. H
 ome inspection will not be provided. Broker Participation: 
 Available\, call Hiller Auction for details. Brokers and/or A
 gents acting as a principal in this transaction are not elig
 ible for broker participation. Closing: On or before 30 bus
 iness days at Home Security Abstract & Title in Princeton. 
  Buyers Premium: A 6% buyer’s premium will be added over 
 and above the high bid price. This will equal the contract p
 rice. Example: A bid of $100\,000 + 6% or $6\,000 = $106\,000 c
 ontract price. Signing of Purchase Agreement: Buyer will ha
 ve 48 hours after being notified to sign the purchase agreem
 ent and deliver an earnest money check to Hiller Auction and
  Realty. Listing Agent: Clinton Bradley with Re/Max Results
  (651)442-5995
URL:https://www.hillerauction.com/auctions/detail/bw92438
SEQUENCE:1
END:VEVENT
END:VCALENDAR