BEGIN:VCALENDAR
VERSION:2.0
PRODID:-//ExpressionEngine Easy iCalendar plugin//NONSGML v2.0.0//EN
X-WR-TIMEZONE:America/Chicago
X-WR-CALNAME:Upcoming Auctions
BEGIN:VEVENT
UID:91809
DTSTAMP:20221111T080000
DTSTART:20221111T080000
DTEND:20221115T180000
SUMMARY:November Consignments Ring 2
LOCATION:10785 261st AVE NW\, Zimmerman \, MN 55398\, US
DESCRIPTION:November Consignments Ring 2 10% Buyers Premium and Minnesot
 a Sales Tax applies All items are at the Auction Barn in Zim
 merman\, NO SHIPPING! Inspection Sunday November 13th 11-2\, 
 Monday November 14th and Tuesday November 15th 8-5 Loadout 
 Wednesday November 16th 9-6 and Thursday November 17th 9-3
  Auction closes 1 lot per minute at 6:00 pm
URL:https://www.hillerauction.com/auctions/detail/bw91809
SEQUENCE:1
END:VEVENT
END:VCALENDAR