BEGIN:VCALENDAR
VERSION:2.0
PRODID:-//ExpressionEngine Easy iCalendar plugin//NONSGML v2.0.0//EN
X-WR-TIMEZONE:America/Chicago
X-WR-CALNAME:Upcoming Auctions
BEGIN:VEVENT
UID:91075
DTSTAMP:20221028T080000
DTSTART:20221028T080000
DTEND:20221101T180000
SUMMARY:Milaca Moving Sale
LOCATION:{location}
DESCRIPTION:10% Buyers Premium  All items are at 19552 80th Ave\, Milaca
 \, MN  HWY 23 East of Milaca to County RD 15 go North 3.5 mi
 les to County RD 11 go East 1 mile to 80th AVE. and Go .5 mi
 le North.  Inspection Monday October 31st 12-4 Loadout Wedn
 esday November  2nd 9-6 and Thursday November  3rd 9-3
  Auction closes 2 lots per minute Starting at 6 pm. No Ship
 ping all items need to be picked up in Milaca!
URL:https://www.hillerauction.com/auctions/detail/bw91075
SEQUENCE:1
END:VEVENT
END:VCALENDAR