BEGIN:VCALENDAR
VERSION:2.0
PRODID:-//ExpressionEngine Easy iCalendar plugin//NONSGML v2.0.0//EN
X-WR-TIMEZONE:America/Chicago
X-WR-CALNAME:Upcoming Auctions
BEGIN:VEVENT
UID:82151
DTSTAMP:20220531T150000
DTSTART:20220531T150000
DTEND:20220603T190000
SUMMARY:June Spruce Tree's and Lilacs
LOCATION:{location}
DESCRIPTION:June fresh dug tree's from a licensed Minnesota grower
URL:https://www.hillerauction.com/auctions/detail/bw82151
SEQUENCE:1
END:VEVENT
END:VCALENDAR