BEGIN:VCALENDAR
VERSION:2.0
PRODID:-//ExpressionEngine Easy iCalendar plugin//NONSGML v2.0.0//EN
X-WR-TIMEZONE:America/Chicago
X-WR-CALNAME:Upcoming Auctions
BEGIN:VEVENT
UID:77764
DTSTAMP:20220318T080000
DTSTART:20220318T080000
DTEND:20220322T190000
SUMMARY:March Consignment Sale Ring 2
LOCATION:{location}
DESCRIPTION:March Consignment Sale Ring 2
URL:https://www.hillerauction.com/auctions/detail/bw77764
SEQUENCE:1
END:VEVENT
END:VCALENDAR