BEGIN:VCALENDAR
VERSION:2.0
PRODID:-//ExpressionEngine Easy iCalendar plugin//NONSGML v2.0.0//EN
X-WR-TIMEZONE:America/Chicago
X-WR-CALNAME:Upcoming Auctions
BEGIN:VEVENT
UID:76923
DTSTAMP:20220304T080000
DTSTART:20220304T080000
DTEND:20220308T180000
SUMMARY:March Firearms\, Industrial and General Merchandise
LOCATION:{location}
DESCRIPTION:March 8th Consignments 
URL:https://www.hillerauction.com/auctions/detail/bw76923
SEQUENCE:1
END:VEVENT
END:VCALENDAR