BEGIN:VCALENDAR
VERSION:2.0
PRODID:-//ExpressionEngine Easy iCalendar plugin//NONSGML v2.0.0//EN
X-WR-TIMEZONE:America/Chicago
X-WR-CALNAME:Upcoming Auctions
BEGIN:VEVENT
UID:125113
DTSTAMP:20240809T080000
DTSTART:20240809T080000
DTEND:20240812T170000
SUMMARY:Mid Summer Firearms\, tools\, Advertising and More
LOCATION:10785 261st AVE NW\, Zimmerman \, MN 55398\, US
DESCRIPTION:We are not taking any consignments for this sale.Â  Approxim
 ately 100 firearms from Police\, pawn and private collectionÂ
   Several Beer and liquor signs and advertisingÂ  Name brand
  tools and more! Â 
URL:https://www.hillerauction.com/auctions/detail/bw125113
SEQUENCE:1
END:VEVENT
END:VCALENDAR