BEGIN:VCALENDAR
VERSION:2.0
PRODID:-//ExpressionEngine Easy iCalendar plugin//NONSGML v2.0.0//EN
X-WR-TIMEZONE:America/Chicago
X-WR-CALNAME:Upcoming Auctions
BEGIN:VEVENT
UID:123809
DTSTAMP:20240823T080000
DTSTART:20240823T080000
DTEND:20240826T170000
SUMMARY:Minnesota DNR Auction Part 1
LOCATION:10785 261st AVE NW\, Zimmerman \, MN 55398\, US
DESCRIPTION:Shotguns\, Rifles\, Handguns\, Bows\, Tree stands and Misc. item
 s A complete catalog will be posted by Thursday August 22nd.
  The state is paying 100% of our commission\, There is no buy
 ers fee for this auction Minnesota sales tax does apply at 7
 .375% Inspection will be Friday August 23rd from 9am to 2pm.
  All items must be picked up at the Auction Barn in Zimmerma
 n.  NO SHIPPING! Load out times are Tuesday August 27th 9-
 6 and Wednesday August 28th 9-3 All firearm buyers must pa
 ss a NICS background check before receiving any firearm. Th
 e registered bidder must be the person passing the backgroun
 d check.
URL:https://www.hillerauction.com/auctions/detail/bw123809
SEQUENCE:1
END:VEVENT
END:VCALENDAR