BEGIN:VCALENDAR
VERSION:2.0
PRODID:-//ExpressionEngine Easy iCalendar plugin//NONSGML v2.0.0//EN
X-WR-TIMEZONE:America/Chicago
X-WR-CALNAME:Upcoming Auctions
BEGIN:VEVENT
UID:123422
DTSTAMP:20240726T080000
DTSTART:20240726T080000
DTEND:20240729T170000
SUMMARY:Larry and Wanda Thoreson
LOCATION:27306 116th ST NW\, Zimmerman \, MN 55398\, US
DESCRIPTION:Bidding starts Friday July 26th and starts to close Monday J
 uly 29th.  10% buyers premium. No Sales tax on personal pro
 perty.  Case 1845C (one owner\, 745 original hours)  John D
 eere 750 w/mower Skid Loader attachments Large amount of var
 ious lumber  
URL:https://www.hillerauction.com/auctions/detail/bw123422
SEQUENCE:1
END:VEVENT
END:VCALENDAR