BEGIN:VCALENDAR
VERSION:2.0
PRODID:-//ExpressionEngine Easy iCalendar plugin//NONSGML v2.0.0//EN
X-WR-TIMEZONE:America/Chicago
X-WR-CALNAME:Upcoming Auctions
BEGIN:VEVENT
UID:121114
DTSTAMP:20240711T130000
DTSTART:20240711T130000
DTEND:20240711T143000
SUMMARY:Saint Paul Police Impound
LOCATION:830 Barge Chanel RD\, St Paul \, MN 55107\, US
DESCRIPTION:cancelled due to flooding 
URL:https://www.hillerauction.com/auctions/detail/bw121114
SEQUENCE:1
END:VEVENT
END:VCALENDAR