BEGIN:VCALENDAR
VERSION:2.0
PRODID:-//ExpressionEngine Easy iCalendar plugin//NONSGML v2.0.0//EN
X-WR-TIMEZONE:America/Chicago
X-WR-CALNAME:Upcoming Auctions
BEGIN:VEVENT
UID:102185
DTSTAMP:20230908T080000
DTSTART:20230908T080000
DTEND:20230911T170000
SUMMARY:September Consignments Ring 1
LOCATION:10785 261st AVE NW\, Zimmerman \, MN 55398\, US
DESCRIPTION:Check in dates will Monday August 28th through Thursday Aug
 ust 31st and Tuesday September 5th 9am to 5pm. We will be
  closed Monday Labor Day. We are accepting Powersports\, Vehi
 cles\, Equipment\, Attachments\, Trailers\, Firearms and ammo. 
  No small Items or General merchandise. 
URL:https://www.hillerauction.com/auctions/detail/bw102185
SEQUENCE:1
END:VEVENT
END:VCALENDAR