BEGIN:VCALENDAR
VERSION:2.0
PRODID:-//ExpressionEngine Easy iCalendar plugin//NONSGML v2.0.0//EN
X-WR-TIMEZONE:America/Chicago
X-WR-CALNAME:Upcoming Auctions
BEGIN:VEVENT
UID:100019
DTSTAMP:20230519T080000
DTSTART:20230519T080000
DTEND:20230522T160000
SUMMARY:May Consignments
LOCATION:10785 261st Ave NW\, Zimmerman \, MN 55398\, US
DESCRIPTION:Bidding Starts Friday May 19th at 8am.  10% buyers premium 
 and sales tax applies. Firearms\, Vehicles\, ATVs\, UTVs\, Motor
 cycles\, Campers\, Watercraft\, Trailers and More! Inspection 
 Saturday May 20th from 9am to Noon and Monday May 22nd 9am t
 o 5pm. Load out Tuesday May 23rd from 9am to 6pm and Wednes
 day May 24th 9am to 3pm. No shipping or hauling. 
URL:https://www.hillerauction.com/auctions/detail/bw100019
SEQUENCE:1
END:VEVENT
END:VCALENDAR